BEGIN:VCALENDAR
VERSION:2.0
PRODID:-//New Horizons Orchestra Fox Valley - ECPv6.14.2//NONSGML v1.0//EN
CALSCALE:GREGORIAN
METHOD:PUBLISH
X-WR-CALNAME:New Horizons Orchestra Fox Valley
X-ORIGINAL-URL:https://www.nhofv.com
X-WR-CALDESC:Events for New Horizons Orchestra Fox Valley
REFRESH-INTERVAL;VALUE=DURATION:PT1H
X-Robots-Tag:noindex
X-PUBLISHED-TTL:PT1H
BEGIN:VTIMEZONE
TZID:America/Chicago
BEGIN:DAYLIGHT
TZOFFSETFROM:-0600
TZOFFSETTO:-0500
TZNAME:CDT
DTSTART:20240310T080000
END:DAYLIGHT
BEGIN:STANDARD
TZOFFSETFROM:-0500
TZOFFSETTO:-0600
TZNAME:CST
DTSTART:20241103T070000
END:STANDARD
END:VTIMEZONE
BEGIN:VEVENT
DTSTART;TZID=America/Chicago:20240302T140000
DTEND;TZID=America/Chicago:20240302T153000
DTSTAMP:20260420T132956
CREATED:20231129T024149Z
LAST-MODIFIED:20231129T024312Z
UID:3356-1709388000-1709393400@www.nhofv.com
SUMMARY:New Horizons Orchestra 2024 Winter Concert
DESCRIPTION:2024 Winter Concert of the New Horizons Orchestra Fox Valley. \nAt First English Lutheran Church\, north site\, 6331 North Ballard Road\, Appleton\, WI.
URL:https://www.nhofv.com/event/orchestra-2024-winter-concert/
LOCATION:WI
CATEGORIES:Concerts,Events
END:VEVENT
END:VCALENDAR